BEGIN:VCALENDAR
VERSION:2.0
PRODID:-//Squarespace Inc/Squarespace 6//v6//EN
BEGIN:VEVENT
UID:5bc62b9e7817f7f98bcbf10b@squarespace.com
DTSTAMP:20181016T182044Z
DTSTART:20181020T023000Z
DTEND:20181020T053000Z
SUMMARY:Comedy For The Kitties!
GEO:34.090989;-118.287057
LOCATION:The Virgil\, 4519 Santa Monica Boulevard\, Los Angeles\, CA\, 9002
 9\, United States
END:VEVENT
END:VCALENDAR
