BEGIN:VCALENDAR
VERSION:2.0
PRODID:-//Squarespace Inc/Squarespace 6//v6//EN
BEGIN:VEVENT
UID:5bc75e2c9140b7241561ec0a@squarespace.com
DTSTAMP:20181017T160811Z
DTSTART:20181021T030000Z
DTEND:20181021T050000Z
SUMMARY:Guitar Eclectic Caturday Night Pop up
END:VEVENT
END:VCALENDAR
