BEGIN:VCALENDAR
VERSION:2.0
PRODID:-//Squarespace Inc/Squarespace 6//v6//EN
BEGIN:VEVENT
UID:5bf9d8d12b6a28e7ef362591@squarespace.com
DTSTAMP:20190826T154511Z
DTSTART:20181125T190000Z
DTEND:20181125T210000Z
SUMMARY:Coffee &amp\; Kittens Adoption Mingle
END:VEVENT
END:VCALENDAR
