BEGIN:VCALENDAR
VERSION:2.0
PRODID:-//Squarespace Inc/Squarespace 6//v6//EN
BEGIN:VEVENT
UID:5bc75e9fe4966ba67bcffb84@squarespace.com
DTSTAMP:20181017T161128Z
DTSTART:20181104T200000Z
DTEND:20181105T020000Z
SUMMARY:Meowolween Psychic PawRaiser
END:VEVENT
END:VCALENDAR
