BEGIN:VCALENDAR
VERSION:2.0
PRODID:-//Squarespace Inc/Squarespace 6//v6//EN
BEGIN:VEVENT
UID:5c09a498758d46277deaadb9@squarespace.com
DTSTAMP:20190826T154437Z
DTSTART:20181209T020000Z
DTEND:20181209T060000Z
SUMMARY:Holiday Shopping Party
GEO:34.104006;-118.291515
LOCATION:sumi's\, 1812 North Vermont Avenue\, Los Angeles\, CA\, 90027\, Un
 ited States
END:VEVENT
END:VCALENDAR
