BEGIN:VCALENDAR
VERSION:2.0
PRODID:-//Squarespace Inc/Squarespace 6//v6//EN
BEGIN:VEVENT
UID:5b33da3488251bc4f763c84b@squarespace.com
DTSTAMP:20190826T154539Z
DTSTART:20180715T190000Z
DTEND:20180715T200000Z
SUMMARY:Psychic Sunday Kitten Medical Care Fundraiser
GEO:34.086844;-118.275799
LOCATION:Muddy Paw Coffee\, 3320 Sunset Boulevard\, Los Angeles\, CA\, 9002
 6\, United States
END:VEVENT
END:VCALENDAR
