BEGIN:VCALENDAR
VERSION:2.0
PRODID:-//Squarespace Inc/Squarespace 6//v6//EN
BEGIN:VEVENT
UID:5c37a5870ebbe891b74cb6a4@squarespace.com
DTSTAMP:20190826T154414Z
DTSTART:20190113T200000Z
DTEND:20190113T220000Z
SUMMARY:Coffee &amp\; Kittens Adoption Mingle
GEO:34.086844;-118.275799
LOCATION:Muddy Paw Coffee\, 3320 Sunset Boulevard\, Los Angeles\, CA\, 9002
 6\, United States
END:VEVENT
END:VCALENDAR
