BEGIN:VCALENDAR
VERSION:2.0
PRODID:-//Squarespace Inc/Squarespace 6//v6//EN
BEGIN:VEVENT
UID:5d9f8e0d6d7d2d0ca17ff81a@squarespace.com
DTSTAMP:20191010T200705Z
DTSTART:20191013T030000Z
DTEND:20191013T050000Z
SUMMARY:Save Kittens Meet Up- LIVE Jazz!
GEO:34.127648;-118.217509
LOCATION:Muddy Paw Coffee Patio\, 4610 Eagle Rock Boulevard\, Los Angeles\, 
 CA\, 90041\, United States
END:VEVENT
END:VCALENDAR
