BEGIN:VCALENDAR
VERSION:2.0
PRODID:-//Squarespace Inc/Squarespace 6//v6//EN
BEGIN:VEVENT
UID:5db5c5332ca7a63a6d57170e@squarespace.com
DTSTAMP:20191027T162928Z
DTSTART:20191027T200000Z
DTEND:20191027T230000Z
SUMMARY:Eagle Rock Bark &amp\; Meow Adoption Mingle
GEO:34.139572;-118.211242
LOCATION:Eagle Rock City Hall\, 2035 Colorado Boulevard\, Los Angeles\, CA\
 , 90041\, United States
END:VEVENT
END:VCALENDAR
