BEGIN:VCALENDAR
VERSION:2.0
PRODID:-//Squarespace Inc/Squarespace 6//v6//EN
BEGIN:VEVENT
UID:5d9f8b4c1390882de4c8d8ac@squarespace.com
DTSTAMP:20220505T165744Z
DTSTART:20191008T010000Z
DTEND:20191008T030000Z
SUMMARY:Yes TNR- tell the city of L.A. to Fix Cats! 
GEO:34.096307;-118.206621
LOCATION:Ramona Hall Community Center\, 4508 North Figueroa Street\, Los An
 geles\, CA\, 90065\, United States
END:VEVENT
END:VCALENDAR
