BEGIN:VCALENDAR
VERSION:2.0
PRODID:-//Squarespace Inc/Squarespace 6//v6//EN
BEGIN:VEVENT
UID:5dc9f699b149496406a8758e@squarespace.com
DTSTAMP:20191112T010854Z
DTSTART:20191123T210000Z
DTEND:20191123T230000Z
SUMMARY:Adoption Mingle at Bell Jar in Los Feliz
GEO:34.103191;-118.291513
LOCATION:Bell Jar\, 1764 North Vermont Avenue\, Los Angeles\, CA\, 90027\, 
 United States
END:VEVENT
END:VCALENDAR
