BEGIN:VCALENDAR
VERSION:2.0
PRODID:-//Squarespace Inc/Squarespace 6//v6//EN
BEGIN:VEVENT
UID:5dca04d151bb2a4a74b2b66e@squarespace.com
DTSTAMP:20191129T232345Z
DTSTART:20191130T200000Z
DTEND:20191201T000000Z
SUMMARY:Shop Small &amp\; Save Kittens Gift Wrapping at LA County Store
GEO:34.09557;-118.283068
LOCATION:Los Angeles County Store\, 4333 Sunset Boulevard\, Los Angeles\, C
 A\, 90029\, United States
END:VEVENT
END:VCALENDAR
