BEGIN:VCALENDAR
VERSION:2.0
PRODID:-//Squarespace Inc/Squarespace 6//v6//EN
BEGIN:VEVENT
UID:5de1a5558ca23e2f1d79f44c@squarespace.com
DTSTAMP:20191210T013345Z
DTSTART:20191201T150000Z
DTEND:20200101T030000Z
SUMMARY:Coffee 4 Kittens December Fundraiser- Muddy Paw Coffee L.A.
GEO:34.086844;-118.275799
LOCATION:muddy paw coffee\, 3320 Sunset Boulevard\, Los Angeles\, CA\, 9002
 6\, United States
END:VEVENT
END:VCALENDAR
