BEGIN:VCALENDAR
VERSION:2.0
PRODID:-//Squarespace Inc/Squarespace 6//v6//EN
BEGIN:VEVENT
UID:5df2e6801678ca7538865253@squarespace.com
DTSTAMP:20191213T012201Z
DTSTART:20191215T200000Z
DTEND:20191215T230000Z
SUMMARY:Coffee &amp\; Kittens Adoption Mingle
END:VEVENT
END:VCALENDAR
