BEGIN:VCALENDAR
VERSION:2.0
PRODID:-//Squarespace Inc/Squarespace 6//v6//EN
BEGIN:VEVENT
UID:5deef609c143057cf4c714da@squarespace.com
DTSTAMP:20191210T204831Z
DTSTART:20191215T040000Z
DTEND:20191215T060000Z
SUMMARY:Luxe Paws 1st Annual Holiday Pawty
END:VEVENT
END:VCALENDAR
