BEGIN:VCALENDAR
VERSION:2.0
PRODID:-//Squarespace Inc/Squarespace 6//v6//EN
BEGIN:VEVENT
UID:5de1a0f4305b2260c9b78036@squarespace.com
DTSTAMP:20191129T232135Z
DTSTART:20191208T020000Z
DTEND:20191208T060000Z
SUMMARY:Holiday Shopping FundRaiser- Sumi's Los Feliz
GEO:34.104006;-118.291515
LOCATION:Sumi's Los Feliz\, 1812 North Vermont Avenue\, Los Angeles\, CA\, 
 90027\, United States
END:VEVENT
END:VCALENDAR
