BEGIN:VCALENDAR
VERSION:2.0
PRODID:-//Squarespace Inc/Squarespace 6//v6//EN
BEGIN:VEVENT
UID:5c9d159b3610e90001e2c3f1@squarespace.com
DTSTAMP:20190826T154359Z
DTSTART:20190331T030000Z
DTEND:20190331T050000Z
SUMMARY:Jazz Fundraiser
END:VEVENT
END:VCALENDAR
