BEGIN:VCALENDAR
VERSION:2.0
PRODID:-//Squarespace Inc/Squarespace 6//v6//EN
BEGIN:VEVENT
UID:5c9d1692ec212d0141d539d6@squarespace.com
DTSTAMP:20190826T154340Z
DTSTART:20190331T190000Z
DTEND:20190331T210000Z
SUMMARY:Coffee &amp\; Kittens Adoption Mingle! 
END:VEVENT
END:VCALENDAR
