BEGIN:VCALENDAR
VERSION:2.0
PRODID:-//Squarespace Inc/Squarespace 6//v6//EN
BEGIN:VEVENT
UID:5d640bfc0e756d0001f26da0@squarespace.com
DTSTAMP:20190826T164345Z
DTSTART:20190413T210000Z
DTEND:20190413T220000Z
SUMMARY:Bottle Feeding 101
END:VEVENT
END:VCALENDAR
