BEGIN:VCALENDAR
VERSION:2.0
PRODID:-//Squarespace Inc/Squarespace 6//v6//EN
BEGIN:VEVENT
UID:5d64077959bafc0001f74fe8@squarespace.com
DTSTAMP:20190826T162430Z
DTSTART:20190428T220000Z
DTEND:20190429T000000Z
SUMMARY:TNR Crash Course
END:VEVENT
END:VCALENDAR
