BEGIN:VCALENDAR
VERSION:2.0
PRODID:-//Squarespace Inc/Squarespace 6//v6//EN
BEGIN:VEVENT
UID:5d640c6e9ac7ef0001e8e7fd@squarespace.com
DTSTAMP:20190826T164545Z
DTSTART:20190407T190000Z
DTEND:20190408T010000Z
SUMMARY:Psychic PawRaiser
END:VEVENT
END:VCALENDAR
