BEGIN:VCALENDAR
VERSION:2.0
PRODID:-//Squarespace Inc/Squarespace 6//v6//EN
BEGIN:VEVENT
UID:5c9d1841eef1a1cda764dc7a@squarespace.com
DTSTAMP:20190826T154238Z
DTSTART:20190407T190000Z
DTEND:20190408T010000Z
SUMMARY:Psychic Sunday PawRaiser
END:VEVENT
END:VCALENDAR
