BEGIN:VCALENDAR
VERSION:2.0
PRODID:-//Squarespace Inc/Squarespace 6//v6//EN
BEGIN:VEVENT
UID:5d640702958e63000191c966@squarespace.com
DTSTAMP:20190826T162223Z
DTSTART:20190511T190000Z
DTEND:20190511T210000Z
SUMMARY:Mother's Day Mingle
END:VEVENT
END:VCALENDAR
