BEGIN:VCALENDAR
VERSION:2.0
PRODID:-//Squarespace Inc/Squarespace 6//v6//EN
BEGIN:VEVENT
UID:5d6406a33a63480001e43b6b@squarespace.com
DTSTAMP:20190826T162032Z
DTSTART:20190517T030000Z
DTEND:20190517T050000Z
SUMMARY:Live Jazz
END:VEVENT
END:VCALENDAR
