BEGIN:VCALENDAR
VERSION:2.0
PRODID:-//Squarespace Inc/Squarespace 6//v6//EN
BEGIN:VEVENT
UID:5d6406370d6d740001dbba64@squarespace.com
DTSTAMP:20190826T161910Z
DTSTART:20190519T210000Z
DTEND:20190520T000000Z
SUMMARY:Community Cat Workshop
END:VEVENT
END:VCALENDAR
