BEGIN:VCALENDAR
VERSION:2.0
PRODID:-//Squarespace Inc/Squarespace 6//v6//EN
BEGIN:VEVENT
UID:5d64051a958e63000191a9b8@squarespace.com
DTSTAMP:20190826T161530Z
DTSTART:20190530T020000Z
DTEND:20190530T050000Z
SUMMARY:Estate Planning With Your Paws
END:VEVENT
END:VCALENDAR
