BEGIN:VCALENDAR
VERSION:2.0
PRODID:-//Squarespace Inc/Squarespace 6//v6//EN
BEGIN:VEVENT
UID:5d64028759bafc0001f6f1a9@squarespace.com
DTSTAMP:20190826T160338Z
DTSTART:20190615T200000Z
DTEND:20190615T220000Z
SUMMARY:Muddy Paw Grand Opening 
END:VEVENT
END:VCALENDAR
