BEGIN:VCALENDAR
VERSION:2.0
PRODID:-//Squarespace Inc/Squarespace 6//v6//EN
BEGIN:VEVENT
UID:5d64041eb9963e0001dc44b3@squarespace.com
DTSTAMP:20190826T161217Z
DTSTART:20190618T190000Z
DTEND:20190618T220000Z
SUMMARY:Glassell Bark Block Party
END:VEVENT
END:VCALENDAR
