BEGIN:VCALENDAR
VERSION:2.0
PRODID:-//Squarespace Inc/Squarespace 6//v6//EN
BEGIN:VEVENT
UID:5d6401f43317ef0001ed111c@squarespace.com
DTSTAMP:20190826T160128Z
DTSTART:20190627T013000Z
DTEND:20190627T070000Z
SUMMARY:Hairspray
END:VEVENT
END:VCALENDAR
