BEGIN:VCALENDAR
VERSION:2.0
PRODID:-//Squarespace Inc/Squarespace 6//v6//EN
BEGIN:VEVENT
UID:5d64011815efa100018bc11a@squarespace.com
DTSTAMP:20190826T155842Z
DTSTART:20190630T200000Z
DTEND:20190630T220000Z
SUMMARY:Coffee &amp\; Kittens
END:VEVENT
END:VCALENDAR
