BEGIN:VCALENDAR
VERSION:2.0
PRODID:-//Squarespace Inc/Squarespace 6//v6//EN
BEGIN:VEVENT
UID:5d3b63e28d55b70001f53854@squarespace.com
DTSTAMP:20190726T205513Z
DTSTART:20190728T030000Z
DTEND:20190728T050000Z
SUMMARY:Jazz Fundraiser
GEO:34.127652;-118.217513
LOCATION:muddy paw coffee\, 4610 North Eagle Rock Boulevard\, Los Angeles\, 
 CA\, 90041\, United States
END:VEVENT
END:VCALENDAR
