BEGIN:VCALENDAR
VERSION:2.0
PRODID:-//Squarespace Inc/Squarespace 6//v6//EN
BEGIN:VEVENT
UID:5d3b65f403a1b90001748f7d@squarespace.com
DTSTAMP:20190726T205301Z
DTSTART:20190728T190000Z
DTEND:20190728T210000Z
SUMMARY:Adoption Mingle
GEO:34.09557;-118.283068
LOCATION:Los Angeles County Store\, 4333 W. Sunset Boulevard\, Los Angeles\
 , CA\, 90029\, United States
END:VEVENT
END:VCALENDAR
