BEGIN:VCALENDAR
VERSION:2.0
PRODID:-//Squarespace Inc/Squarespace 6//v6//EN
BEGIN:VEVENT
UID:5d64007696ad8100013ffc5d@squarespace.com
DTSTAMP:20190826T155559Z
DTSTART:20190811T030000Z
DTEND:20190811T070000Z
SUMMARY:International Cat Day w/ Paul Koudounaris
END:VEVENT
END:VCALENDAR
