BEGIN:VCALENDAR
VERSION:2.0
PRODID:-//Squarespace Inc/Squarespace 6//v6//EN
BEGIN:VEVENT
UID:5d63ffef6c9ff50001cac87a@squarespace.com
DTSTAMP:20190826T155233Z
DTSTART:20190811T190000Z
DTEND:20190812T010000Z
SUMMARY:Psychic Sunday
END:VEVENT
END:VCALENDAR
