BEGIN:VCALENDAR
VERSION:2.0
PRODID:-//Squarespace Inc/Squarespace 6//v6//EN
BEGIN:VEVENT
UID:5d63feb2252f130001cb1bce@squarespace.com
DTSTAMP:20190826T154956Z
DTSTART:20190825T190000Z
DTEND:20190825T220000Z
SUMMARY:ATLAS Art Compound
END:VEVENT
END:VCALENDAR
