BEGIN:VCALENDAR
VERSION:2.0
PRODID:-//Squarespace Inc/Squarespace 6//v6//EN
BEGIN:VEVENT
UID:5d7a5740eac3b10c6e0786f8@squarespace.com
DTSTAMP:20190912T144607Z
DTSTART:20190915T030000Z
DTEND:20190915T050000Z
SUMMARY:CATurday Night Jazz Meet Up
END:VEVENT
END:VCALENDAR
