BEGIN:VCALENDAR
VERSION:2.0
PRODID:-//Squarespace Inc/Squarespace 6//v6//EN
BEGIN:VEVENT
UID:5d8a951dcd9b017130859456@squarespace.com
DTSTAMP:20190924T221910Z
DTSTART:20190915T210000Z
DTEND:20190915T230000Z
SUMMARY:Crash Course in Bottle Feeding
GEO:34.09557;-118.283068
LOCATION:Los angeles County Store\, 4333 W. Sunset Boulevard\, Los Angeles\
 , CA\, 90029\, United States
END:VEVENT
END:VCALENDAR
