BEGIN:VCALENDAR
VERSION:2.0
PRODID:-//Squarespace Inc/Squarespace 6//v6//EN
BEGIN:VEVENT
UID:5d8a966a1288c60646803b70@squarespace.com
DTSTAMP:20190929T224414Z
DTSTART:20190930T020000Z
DTEND:20190930T040000Z
SUMMARY:Cat Call West Coast Book Release Party
END:VEVENT
END:VCALENDAR
