BEGIN:VCALENDAR
VERSION:2.0
PRODID:-//Squarespace Inc/Squarespace 6//v6//EN
BEGIN:VEVENT
UID:5d698d174f45fb0001f84a0b@squarespace.com
DTSTAMP:20190830T210700Z
DTSTART:20190908T000000Z
DTEND:20190908T040000Z
SUMMARY:SAVE KITTENS Shopping Fundraiser &amp\; Adoption Mingle
END:VEVENT
END:VCALENDAR
