BEGIN:VCALENDAR
VERSION:2.0
PRODID:-//Squarespace Inc/Squarespace 6//v6//EN
BEGIN:VEVENT
UID:5f8150f580994b2d93dd8732@squarespace.com
DTSTAMP:20201010T065347Z
DTSTART:20201010T170000Z
DTEND:20201011T220000Z
SUMMARY:CatCon 2020 From Your Couch - Virtual Event
END:VEVENT
END:VCALENDAR
