BEGIN:VCALENDAR
VERSION:2.0
PRODID:-//Squarespace Inc/Squarespace 6//v6//EN
BEGIN:VEVENT
UID:5f91c048eb8f3159249aae3f@squarespace.com
DTSTAMP:20201022T172825Z
DTSTART:20201024T180000Z
DTEND:20201025T000000Z
SUMMARY:It's Pays to Spay Glassell Park
END:VEVENT
END:VCALENDAR
