BEGIN:VCALENDAR
VERSION:2.0
PRODID:-//Squarespace Inc/Squarespace 6//v6//EN
BEGIN:VEVENT
UID:5e38839cb9b4566c696165bb@squarespace.com
DTSTAMP:20200203T203612Z
DTSTART:20200202T200000Z
DTEND:20200202T230000Z
SUMMARY:Coffee &amp\; Kittens Adoption Mingle
GEO:34.086844;-118.275799
LOCATION:Muddy Paw Coffee\, 3320 Sunset Boulevard\, Los Angeles\, CA\, 9002
 6\, United States
END:VEVENT
END:VCALENDAR
