BEGIN:VCALENDAR
VERSION:2.0
PRODID:-//Squarespace Inc/Squarespace 6//v6//EN
BEGIN:VEVENT
UID:5eeff58e16217c2827d41ed0@squarespace.com
DTSTAMP:20200622T003416Z
DTSTART:20200614T003000Z
DTEND:20200624T013000Z
SUMMARY:Copro Gallery Art Adoption Event benefitting Luxe Paws Emergency Me
 dical 
GEO:34.028315;-118.467646
LOCATION:copro gallery\, 2525 Michigan Ave. T5\, Santa Monica\, CA 90404
END:VEVENT
END:VCALENDAR
