BEGIN:VCALENDAR
VERSION:2.0
PRODID:-//Squarespace Inc/Squarespace 6//v6//EN
BEGIN:VEVENT
UID:619ffda077f4dd7160c6d92a@squarespace.com
DTSTAMP:20211125T212200Z
DTSTART:20211128T040000Z
DTEND:20211128T050000Z
SUMMARY:Thunder Cat
GEO:34.023986;-118.281272
LOCATION:Shrine Auditorium\, 665 W Jefferson Blvd.\, Los Angeles\, CA 90007
END:VEVENT
END:VCALENDAR
