BEGIN:VCALENDAR
VERSION:2.0
PRODID:-//Squarespace Inc/Squarespace 6//v6//EN
BEGIN:VEVENT
UID:619ffd473c18223cbaf692bc@squarespace.com
DTSTAMP:20211125T211820Z
DTSTART:20211107T163000Z
DTEND:20211107T203000Z
SUMMARY:Atwater Village Community Spay Day
END:VEVENT
END:VCALENDAR
