BEGIN:VCALENDAR
VERSION:2.0
PRODID:-//Squarespace Inc/Squarespace 6//v6//EN
BEGIN:VEVENT
UID:61b3ecf73d1a4b13b969ac01@squarespace.com
DTSTAMP:20211211T002148Z
DTSTART:20211212T030000Z
DTEND:20211212T060000Z
SUMMARY:Shop\, Sip &amp\; Save Kittens at Sumi's Los Feliz
END:VEVENT
END:VCALENDAR
