BEGIN:VCALENDAR
VERSION:2.0
PRODID:-//Squarespace Inc/Squarespace 6//v6//EN
BEGIN:VEVENT
UID:61b8faf611dc1858b1dec6b4@squarespace.com
DTSTAMP:20211214T202707Z
DTSTART:20211219T200000Z
DTEND:20211219T230000Z
SUMMARY:Coffee\, Kittens &amp\; Santa Adoption Mingle
END:VEVENT
END:VCALENDAR
