BEGIN:VCALENDAR
VERSION:2.0
PRODID:-//Squarespace Inc/Squarespace 6//v6//EN
BEGIN:VEVENT
UID:60760248f12ef33cd36625b3@squarespace.com
DTSTAMP:20210413T211617Z
DTSTART:20210417T170000Z
DTEND:20210418T210000Z
SUMMARY:CatCon From Your Couch
END:VEVENT
END:VCALENDAR
