BEGIN:VCALENDAR
VERSION:2.0
PRODID:-//Squarespace Inc/Squarespace 6//v6//EN
BEGIN:VEVENT
UID:619ffc0c84f995413dcbd3c6@squarespace.com
DTSTAMP:20211125T211459Z
DTSTART:20210731T210000Z
DTEND:20210801T060000Z
SUMMARY:Grand Performances Presents Deep L.A.
END:VEVENT
END:VCALENDAR
