BEGIN:VCALENDAR
VERSION:2.0
PRODID:-//Squarespace Inc/Squarespace 6//v6//EN
BEGIN:VEVENT
UID:61b8ff7472b02b2955950f3a@squarespace.com
DTSTAMP:20211214T203758Z
DTSTART:20210709T000000Z
DTEND:20210710T040000Z
SUMMARY:Trap/Neuter/Return Seminar
END:VEVENT
END:VCALENDAR
